BEGIN:VCALENDAR
VERSION:2.0
PRODID:icalendar-ruby
CALSCALE:GREGORIAN
METHOD:PUBLISH
BEGIN:VTIMEZONE
TZID:Australia/Perth
BEGIN:STANDARD
DTSTART:20090329T020000
TZOFFSETFROM:+0900
TZOFFSETTO:+0800
TZNAME:AWST
END:STANDARD
END:VTIMEZONE
BEGIN:VEVENT
DTSTAMP:20260421T152520Z
UID:inspection_3006141
DTSTART;TZID=Australia/Perth:20260422T163000
DTEND;TZID=Australia/Perth:20260422T164500
CLASS:PUBLIC
CREATED:20260420T163755
DESCRIPTION: 
LAST-MODIFIED:20260420T163755
LOCATION:4 Barge Court\, ARMADALE WA 6112\, Australia
SUMMARY:4 Barge Court\,  Inspection
URL;VALUE=URI:
END:VEVENT
END:VCALENDAR
