BEGIN:VCALENDAR
VERSION:2.0
PRODID:icalendar-ruby
CALSCALE:GREGORIAN
METHOD:PUBLISH
BEGIN:VTIMEZONE
TZID:Australia/Perth
BEGIN:STANDARD
DTSTART:20090329T020000
TZOFFSETFROM:+0900
TZOFFSETTO:+0800
TZNAME:AWST
END:STANDARD
END:VTIMEZONE
BEGIN:VEVENT
DTSTAMP:20260421T135338Z
UID:inspection_3008188
DTSTART;TZID=Australia/Perth:20260426T110000
DTEND;TZID=Australia/Perth:20260426T113000
CLASS:PUBLIC
CREATED:20260421T162336
DESCRIPTION: 
LAST-MODIFIED:20260421T162336
LOCATION:11 Montague Lane\, SOUTHERN RIVER WA 6110\, Australia
SUMMARY:11 Montague Lane\,  Inspection
URL;VALUE=URI:
END:VEVENT
END:VCALENDAR
