BEGIN:VCALENDAR
VERSION:2.0
PRODID:icalendar-ruby
CALSCALE:GREGORIAN
METHOD:PUBLISH
BEGIN:VTIMEZONE
TZID:Australia/Perth
BEGIN:STANDARD
DTSTART:20090329T020000
TZOFFSETFROM:+0900
TZOFFSETTO:+0800
TZNAME:AWST
END:STANDARD
END:VTIMEZONE
BEGIN:VEVENT
DTSTAMP:20260421T135339Z
UID:inspection_3008218
DTSTART;TZID=Australia/Perth:20260425T123000
DTEND;TZID=Australia/Perth:20260425T130000
CLASS:PUBLIC
CREATED:20260421T165233
DESCRIPTION: 
LAST-MODIFIED:20260421T165233
LOCATION:197A Wharf Street\, QUEENS PARK WA 6107\, Australia
SUMMARY:197A Wharf Street\,  Inspection
URL;VALUE=URI:
END:VEVENT
END:VCALENDAR
